BEGIN:VCALENDAR
VERSION:2.0
PRODID:-//wp-events-plugin.com//7.2.3.1//EN
TZID:Europe/Berlin
X-WR-TIMEZONE:Europe/Berlin
BEGIN:VEVENT
UID:0-6@svbuchholz05.de
DTSTART;TZID=Europe/Berlin:20240705T170000
DTEND;TZID=Europe/Berlin:20240705T220000
DTSTAMP:20240624T141859Z
URL:https://svbuchholz05.de/events/abschluss-f-jugend/
SUMMARY:Abschluss F-Jugend
DESCRIPTION:
LOCATION:Haus der Vereine\, Am Sportplatz\, Buchholz\, 53567\, Deutschland
X-APPLE-STRUCTURED-LOCATION;VALUE=URI;X-ADDRESS=Am Sportplatz\, Buchholz\, 
 53567\, Deutschland;X-APPLE-RADIUS=100;X-TITLE=Haus der Vereine:geo:0,0
END:VEVENT
BEGIN:VTIMEZONE
TZID:Europe/Berlin
X-LIC-LOCATION:Europe/Berlin
BEGIN:DAYLIGHT
DTSTART:20240331T030000
TZOFFSETFROM:+0100
TZOFFSETTO:+0200
TZNAME:CEST
END:DAYLIGHT
END:VTIMEZONE
END:VCALENDARBEGIN:VCALENDAR
VERSION:2.0
PRODID:-//wp-events-plugin.com//7.2.3.1//EN
TZID:Europe/Berlin
X-WR-TIMEZONE:Europe/Berlin
BEGIN:VEVENT
UID:0-6@svbuchholz05.de
DTSTART;TZID=Europe/Berlin:20240705T170000
DTEND;TZID=Europe/Berlin:20240705T220000
DTSTAMP:20240624T141859Z
URL:https://svbuchholz05.de/events/abschluss-f-jugend/
SUMMARY:Abschluss F-Jugend
DESCRIPTION:
LOCATION:Haus der Vereine\, Am Sportplatz\, Buchholz\, 53567\, Deutschland
X-APPLE-STRUCTURED-LOCATION;VALUE=URI;X-ADDRESS=Am Sportplatz\, Buchholz\, 
 53567\, Deutschland;X-APPLE-RADIUS=100;X-TITLE=Haus der Vereine:geo:0,0
END:VEVENT
BEGIN:VTIMEZONE
TZID:Europe/Berlin
X-LIC-LOCATION:Europe/Berlin
BEGIN:DAYLIGHT
DTSTART:20240331T030000
TZOFFSETFROM:+0100
TZOFFSETTO:+0200
TZNAME:CEST
END:DAYLIGHT
END:VTIMEZONE
END:VCALENDAR