BEGIN:VCALENDAR
VERSION:2.0
PRODID:-//wp-events-plugin.com//7.2.3.1//EN
TZID:Europe/Berlin
X-WR-TIMEZONE:Europe/Berlin
BEGIN:VEVENT
UID:0-1@svbuchholz05.de
DTSTART;TZID=Europe/Berlin:20231202T190000
DTEND;TZID=Europe/Berlin:20231202T203000
DTSTAMP:20231117T081708Z
URL:https://svbuchholz05.de/events/abendessen-turngruppen-sonja/
SUMMARY:Abendessen Turngruppen Sonja
DESCRIPTION:
LOCATION:Haus der Vereine\, Am Sportplatz\, Buchholz\, 53567\, Deutschland
X-APPLE-STRUCTURED-LOCATION;VALUE=URI;X-ADDRESS=Am Sportplatz\, Buchholz\, 
 53567\, Deutschland;X-APPLE-RADIUS=100;X-TITLE=Haus der Vereine:geo:0,0
END:VEVENT
BEGIN:VTIMEZONE
TZID:Europe/Berlin
X-LIC-LOCATION:Europe/Berlin
BEGIN:STANDARD
DTSTART:20231029T020000
TZOFFSETFROM:+0200
TZOFFSETTO:+0100
TZNAME:CET
END:STANDARD
END:VTIMEZONE
END:VCALENDARBEGIN:VCALENDAR
VERSION:2.0
PRODID:-//wp-events-plugin.com//7.2.3.1//EN
TZID:Europe/Berlin
X-WR-TIMEZONE:Europe/Berlin
BEGIN:VEVENT
UID:0-1@svbuchholz05.de
DTSTART;TZID=Europe/Berlin:20231202T190000
DTEND;TZID=Europe/Berlin:20231202T203000
DTSTAMP:20231117T081708Z
URL:https://svbuchholz05.de/events/abendessen-turngruppen-sonja/
SUMMARY:Abendessen Turngruppen Sonja
DESCRIPTION:
LOCATION:Haus der Vereine\, Am Sportplatz\, Buchholz\, 53567\, Deutschland
X-APPLE-STRUCTURED-LOCATION;VALUE=URI;X-ADDRESS=Am Sportplatz\, Buchholz\, 
 53567\, Deutschland;X-APPLE-RADIUS=100;X-TITLE=Haus der Vereine:geo:0,0
END:VEVENT
BEGIN:VTIMEZONE
TZID:Europe/Berlin
X-LIC-LOCATION:Europe/Berlin
BEGIN:STANDARD
DTSTART:20231029T020000
TZOFFSETFROM:+0200
TZOFFSETTO:+0100
TZNAME:CET
END:STANDARD
END:VTIMEZONE
END:VCALENDAR